BEGIN:VCALENDAR
VERSION:2.0
PRODID:-//Institut Français Hypnose Humaniste &amp; Ericksonienne - ECPv4.6.2//NONSGML v1.0//EN
CALSCALE:GREGORIAN
METHOD:PUBLISH
X-WR-CALNAME:Institut Français Hypnose Humaniste &amp; Ericksonienne
X-ORIGINAL-URL:https://hypnose-ericksonienne.com
X-WR-CALDESC:Events for Institut Français Hypnose Humaniste &amp; Ericksonienne
BEGIN:VEVENT
DTSTART;VALUE=DATE:20180723
DTEND;VALUE=DATE:20180811
DTSTAMP:20260423T144126
CREATED:20170624T092314Z
LAST-MODIFIED:20180719T081745Z
UID:8852-1532304000-1533945599@hypnose-ericksonienne.com
SUMMARY:PRATICIEN 2 HE - PARIS
DESCRIPTION:
URL:https://hypnose-ericksonienne.com/e/praticien-2-he-paris-3/
LOCATION:60 rue Carnot\, Boulogne-Billancourt\, 92100 \, France
CATEGORIES:Praticien 2 HE
END:VEVENT
END:VCALENDAR