BEGIN:VCALENDAR
VERSION:2.0
PRODID:-//Institut Français Hypnose Humaniste &amp; Ericksonienne - ECPv4.6.2//NONSGML v1.0//EN
CALSCALE:GREGORIAN
METHOD:PUBLISH
X-WR-CALNAME:Institut Français Hypnose Humaniste &amp; Ericksonienne
X-ORIGINAL-URL:https://hypnose-ericksonienne.com
X-WR-CALDESC:Events for Institut Français Hypnose Humaniste &amp; Ericksonienne
BEGIN:VEVENT
DTSTART;VALUE=DATE:20190114
DTEND;VALUE=DATE:20190316
DTSTAMP:20260423T004035
CREATED:20180323T141423Z
LAST-MODIFIED:20190104T102714Z
UID:9276174-1547424000-1552694399@hypnose-ericksonienne.com
SUMMARY:PRATICIEN 2 HE - PARIS
DESCRIPTION:
URL:https://hypnose-ericksonienne.com/e/praticien-2-he-paris-4/
LOCATION:60 rue Carnot\, Boulogne-Billancourt\, 92100 \, France
CATEGORIES:Praticien 2 HE
END:VEVENT
END:VCALENDAR