BEGIN:VCALENDAR
VERSION:2.0
PRODID:-//Institut Français Hypnose Humaniste &amp; Ericksonienne - ECPv4.6.2//NONSGML v1.0//EN
CALSCALE:GREGORIAN
METHOD:PUBLISH
X-WR-CALNAME:Institut Français Hypnose Humaniste &amp; Ericksonienne
X-ORIGINAL-URL:https://hypnose-ericksonienne.com
X-WR-CALDESC:Events for Institut Français Hypnose Humaniste &amp; Ericksonienne
BEGIN:VEVENT
DTSTART;TZID=Europe/Paris:20190408T080000
DTEND;TZID=Europe/Paris:20190621T170000
DTSTAMP:20260422T062705
CREATED:20180323T141535Z
LAST-MODIFIED:20180330T091425Z
UID:9276176-1554710400-1561136400@hypnose-ericksonienne.com
SUMMARY:PRATICIEN 2 HE - PARIS
DESCRIPTION:
URL:https://hypnose-ericksonienne.com/e/praticien-2-he-paris-5/
LOCATION:60 rue Carnot\, Boulogne-Billancourt\, 92100 \, France
CATEGORIES:Praticien 2 HE
END:VEVENT
END:VCALENDAR