BEGIN:VCALENDAR
VERSION:2.0
PRODID:-//Institut Français Hypnose Humaniste &amp; Ericksonienne - ECPv4.6.2//NONSGML v1.0//EN
CALSCALE:GREGORIAN
METHOD:PUBLISH
X-WR-CALNAME:Institut Français Hypnose Humaniste &amp; Ericksonienne
X-ORIGINAL-URL:https://hypnose-ericksonienne.com
X-WR-CALDESC:Events for Institut Français Hypnose Humaniste &amp; Ericksonienne
BEGIN:VEVENT
DTSTART;TZID=Europe/Paris:20170918T080000
DTEND;TZID=Europe/Paris:20171201T170000
DTSTAMP:20260424T121328
CREATED:20170624T091023Z
LAST-MODIFIED:20171012T100652Z
UID:8846-1505721600-1512147600@hypnose-ericksonienne.com
SUMMARY:PRATICIEN 2 HE - TOULOUSE
DESCRIPTION:
URL:https://hypnose-ericksonienne.com/e/praticien-2-he-toulouse/
LOCATION:Adresse Toulouse...\, Toulouse\, CP...\, France
CATEGORIES:Praticien 2 HE
END:VEVENT
END:VCALENDAR