BEGIN:VCALENDAR
VERSION:2.0
PRODID:-//Institut Français Hypnose Humaniste &amp; Ericksonienne - ECPv4.6.2//NONSGML v1.0//EN
CALSCALE:GREGORIAN
METHOD:PUBLISH
X-WR-CALNAME:Institut Français Hypnose Humaniste &amp; Ericksonienne
X-ORIGINAL-URL:https://hypnose-ericksonienne.com
X-WR-CALDESC:Events for Institut Français Hypnose Humaniste &amp; Ericksonienne
BEGIN:VEVENT
DTSTART;VALUE=DATE:20210426
DTEND;VALUE=DATE:20210626
DTSTAMP:20260419T194525
CREATED:20191125T104416Z
LAST-MODIFIED:20210423T073509Z
UID:9277517-1619395200-1624665599@hypnose-ericksonienne.com
SUMMARY:PRATICIEN 2 HH
DESCRIPTION:
URL:https://hypnose-ericksonienne.com/e/praticien-2-hh-4/
LOCATION:60 rue Carnot\, Boulogne-Billancourt\, 92100 \, France
CATEGORIES:Praticien 2 HH
END:VEVENT
END:VCALENDAR