BEGIN:VCALENDAR
VERSION:2.0
PRODID:-//Institut Français Hypnose Humaniste &amp; Ericksonienne - ECPv4.6.2//NONSGML v1.0//EN
CALSCALE:GREGORIAN
METHOD:PUBLISH
X-WR-CALNAME:Institut Français Hypnose Humaniste &amp; Ericksonienne
X-ORIGINAL-URL:https://hypnose-ericksonienne.com
X-WR-CALDESC:Events for Institut Français Hypnose Humaniste &amp; Ericksonienne
BEGIN:VEVENT
DTSTART;VALUE=DATE:20210719
DTEND;VALUE=DATE:20210807
DTSTAMP:20260420T051306
CREATED:20201126T090120Z
LAST-MODIFIED:20210519T092305Z
UID:9278204-1626652800-1628294399@hypnose-ericksonienne.com
SUMMARY:PRATICIEN 2 HH
DESCRIPTION:Les inscriptions sont closes pour la session Praticien 2 HH de juillet-août 2021 en présentiel à Paris.  \nIl reste toutefois des places pour effectuer cette session à distance.  \n
URL:https://hypnose-ericksonienne.com/e/praticien-2-hh-5/
LOCATION:60 rue Carnot\, Boulogne-Billancourt\, 92100 \, France
CATEGORIES:Praticien 2 HH
END:VEVENT
END:VCALENDAR