BEGIN:VCALENDAR
VERSION:2.0
PRODID:-//Institut Français Hypnose Humaniste &amp; Ericksonienne - ECPv4.6.2//NONSGML v1.0//EN
CALSCALE:GREGORIAN
METHOD:PUBLISH
X-WR-CALNAME:Institut Français Hypnose Humaniste &amp; Ericksonienne
X-ORIGINAL-URL:https://hypnose-ericksonienne.com
X-WR-CALDESC:Events for Institut Français Hypnose Humaniste &amp; Ericksonienne
BEGIN:VEVENT
DTSTART;VALUE=DATE:20210419
DTEND;VALUE=DATE:20210622
DTSTAMP:20260419T212015
CREATED:20210224T074040Z
LAST-MODIFIED:20210416T144623Z
UID:9278524-1618790400-1624319999@hypnose-ericksonienne.com
SUMMARY:PRATICIEN 2 HH
DESCRIPTION:
URL:https://hypnose-ericksonienne.com/e/praticien-2-hh-8/
LOCATION:E-Learning\, France
CATEGORIES:Praticien 2 HH
END:VEVENT
END:VCALENDAR