BEGIN:VCALENDAR
VERSION:2.0
PRODID:-//Institut Français Hypnose Humaniste &amp; Ericksonienne - ECPv4.6.2//NONSGML v1.0//EN
CALSCALE:GREGORIAN
METHOD:PUBLISH
X-WR-CALNAME:Institut Français Hypnose Humaniste &amp; Ericksonienne
X-ORIGINAL-URL:https://hypnose-ericksonienne.com
X-WR-CALDESC:Events for Institut Français Hypnose Humaniste &amp; Ericksonienne
BEGIN:VEVENT
DTSTART;TZID=Europe/Paris:20170721T080000
DTEND;TZID=Europe/Paris:20170807T170000
DTSTAMP:20260424T092621
CREATED:20170624T092628Z
LAST-MODIFIED:20170710T080136Z
UID:8856-1500624000-1502125200@hypnose-ericksonienne.com
SUMMARY:PRATICIEN 2 HH - PARIS
DESCRIPTION:
URL:https://hypnose-ericksonienne.com/e/praticien-2-hh-paris-2/
LOCATION:60 rue Carnot\, Boulogne-Billancourt\, 92100 \, France
CATEGORIES:Praticien 2 HH
END:VEVENT
END:VCALENDAR