BEGIN:VCALENDAR
VERSION:2.0
PRODID:-//Institut Français Hypnose Humaniste &amp; Ericksonienne - ECPv4.6.2//NONSGML v1.0//EN
CALSCALE:GREGORIAN
METHOD:PUBLISH
X-WR-CALNAME:Institut Français Hypnose Humaniste &amp; Ericksonienne
X-ORIGINAL-URL:https://hypnose-ericksonienne.com
X-WR-CALDESC:Events for Institut Français Hypnose Humaniste &amp; Ericksonienne
BEGIN:VEVENT
DTSTART;VALUE=DATE:20181112
DTEND;VALUE=DATE:20190112
DTSTAMP:20260423T085011
CREATED:20180323T140548Z
LAST-MODIFIED:20180323T140548Z
UID:9276172-1541980800-1547251199@hypnose-ericksonienne.com
SUMMARY:PRATICIEN 2 HH – PARIS
DESCRIPTION:
URL:https://hypnose-ericksonienne.com/e/praticien-2-hh-paris-9/
LOCATION:60 rue Carnot\, Boulogne-Billancourt\, 92100 \, France
CATEGORIES:Praticien 2 HH
END:VEVENT
END:VCALENDAR