BEGIN:VCALENDAR
VERSION:2.0
PRODID:-//Institut Français Hypnose Humaniste &amp; Ericksonienne - ECPv4.6.2//NONSGML v1.0//EN
CALSCALE:GREGORIAN
METHOD:PUBLISH
X-WR-CALNAME:Institut Français Hypnose Humaniste &amp; Ericksonienne
X-ORIGINAL-URL:https://hypnose-ericksonienne.com
X-WR-CALDESC:Events for Institut Français Hypnose Humaniste &amp; Ericksonienne
BEGIN:VEVENT
DTSTART;VALUE=DATE:20171116
DTEND;VALUE=DATE:20180108
DTSTAMP:20260424T023335
CREATED:20171018T074438Z
LAST-MODIFIED:20171121T175343Z
UID:9314-1510790400-1515369599@hypnose-ericksonienne.com
SUMMARY:Praticien Hypnose Maroc
DESCRIPTION:
URL:https://hypnose-ericksonienne.com/e/praticien-hypnose-maroc/
LOCATION:Genève\, Suisse
CATEGORIES:Praticien 2 HE
END:VEVENT
END:VCALENDAR