BEGIN:VCALENDAR
VERSION:2.0
PRODID:-//Institut Français Hypnose Humaniste &amp; Ericksonienne - ECPv4.6.2//NONSGML v1.0//EN
CALSCALE:GREGORIAN
METHOD:PUBLISH
X-WR-CALNAME:Institut Français Hypnose Humaniste &amp; Ericksonienne
X-ORIGINAL-URL:https://hypnose-ericksonienne.com
X-WR-CALDESC:Events for Institut Français Hypnose Humaniste &amp; Ericksonienne
BEGIN:VEVENT
DTSTART;TZID=Europe/Paris:20171125T000000
DTEND;TZID=Europe/Paris:20171126T235900
DTSTAMP:20260423T234926
CREATED:20170908T132846Z
LAST-MODIFIED:20171114T112750Z
UID:9199-1511568000-1511740740@hypnose-ericksonienne.com
SUMMARY:PROFESSION THERAPEUTE
DESCRIPTION:
URL:https://hypnose-ericksonienne.com/e/profession-therapeute-2/
LOCATION:Adresse à Lyon...\, Lyon\, CP...\, France
CATEGORIES:Profession Thérapeute
END:VEVENT
END:VCALENDAR