BEGIN:VCALENDAR
VERSION:2.0
PRODID:-//Institut Français Hypnose Humaniste &amp; Ericksonienne - ECPv4.6.2//NONSGML v1.0//EN
CALSCALE:GREGORIAN
METHOD:PUBLISH
X-WR-CALNAME:Institut Français Hypnose Humaniste &amp; Ericksonienne
X-ORIGINAL-URL:https://hypnose-ericksonienne.com
X-WR-CALDESC:Events for Institut Français Hypnose Humaniste &amp; Ericksonienne
BEGIN:VEVENT
DTSTART;VALUE=DATE:20210607
DTEND;VALUE=DATE:20210609
DTSTAMP:20260419T150917
CREATED:20191125T111830Z
LAST-MODIFIED:20210604T121252Z
UID:9277540-1623024000-1623196799@hypnose-ericksonienne.com
SUMMARY:PROFESSION THERAPEUTE
DESCRIPTION:
URL:https://hypnose-ericksonienne.com/e/profession-therapeute-5/
LOCATION:60 rue Carnot\, Boulogne-Billancourt\, 92100 \, France
CATEGORIES:Profession Thérapeute
END:VEVENT
END:VCALENDAR