BEGIN:VCALENDAR
VERSION:2.0
PRODID:-//Institut Français Hypnose Humaniste &amp; Ericksonienne - ECPv4.6.2//NONSGML v1.0//EN
CALSCALE:GREGORIAN
METHOD:PUBLISH
X-WR-CALNAME:Institut Français Hypnose Humaniste &amp; Ericksonienne
X-ORIGINAL-URL:https://hypnose-ericksonienne.com
X-WR-CALDESC:Events for Institut Français Hypnose Humaniste &amp; Ericksonienne
BEGIN:VEVENT
DTSTART;TZID=Europe/Paris:20180319T080000
DTEND;TZID=Europe/Paris:20180323T080000
DTSTAMP:20260424T023422
CREATED:20170627T105434Z
LAST-MODIFIED:20180316T140538Z
UID:8894-1521446400-1521792000@hypnose-ericksonienne.com
SUMMARY:PSYCHOPATHOLOGIE
DESCRIPTION:
URL:https://hypnose-ericksonienne.com/e/psychopathologie-2/
LOCATION:60 rue Carnot\, Boulogne-Billancourt\, 92100 \, France
CATEGORIES:Psychopathologie
END:VEVENT
END:VCALENDAR