BEGIN:VCALENDAR
VERSION:2.0
PRODID:-//Institut Français Hypnose Humaniste &amp; Ericksonienne - ECPv4.6.2//NONSGML v1.0//EN
CALSCALE:GREGORIAN
METHOD:PUBLISH
X-WR-CALNAME:Institut Français Hypnose Humaniste &amp; Ericksonienne
X-ORIGINAL-URL:https://hypnose-ericksonienne.com
X-WR-CALDESC:Events for Institut Français Hypnose Humaniste &amp; Ericksonienne
BEGIN:VEVENT
DTSTART;VALUE=DATE:20210208
DTEND;VALUE=DATE:20210213
DTSTAMP:20260419T181653
CREATED:20191125T104008Z
LAST-MODIFIED:20210122T110135Z
UID:9277511-1612742400-1613174399@hypnose-ericksonienne.com
SUMMARY:PSYCHOPATHOLOGIE
DESCRIPTION:
URL:https://hypnose-ericksonienne.com/e/psychopathologie-8/
LOCATION:60 rue Carnot\, Boulogne-Billancourt\, 92100 \, France
CATEGORIES:Psychopathologie
END:VEVENT
END:VCALENDAR