BEGIN:VCALENDAR
VERSION:2.0
PRODID:-//Institut Français Hypnose Humaniste &amp; Ericksonienne - ECPv4.6.2//NONSGML v1.0//EN
CALSCALE:GREGORIAN
METHOD:PUBLISH
X-WR-CALNAME:Institut Français Hypnose Humaniste &amp; Ericksonienne
X-ORIGINAL-URL:https://hypnose-ericksonienne.com
X-WR-CALDESC:Events for Institut Français Hypnose Humaniste &amp; Ericksonienne
BEGIN:VEVENT
DTSTART;TZID=Europe/Paris:20170925T080000
DTEND;TZID=Europe/Paris:20170929T170000
DTSTAMP:20260424T120744
CREATED:20170627T105333Z
LAST-MODIFIED:20170627T105333Z
UID:8892-1506326400-1506704400@hypnose-ericksonienne.com
SUMMARY:PSYCHOPATHOLOGIE
DESCRIPTION:
URL:https://hypnose-ericksonienne.com/e/psychopathologie/
LOCATION:60 rue Carnot\, Boulogne-Billancourt\, 92100 \, France
CATEGORIES:Psychopathologie
END:VEVENT
END:VCALENDAR