BEGIN:VCALENDAR
VERSION:2.0
PRODID:-//Institut Français Hypnose Humaniste &amp; Ericksonienne - ECPv4.6.2//NONSGML v1.0//EN
CALSCALE:GREGORIAN
METHOD:PUBLISH
X-WR-CALNAME:Institut Français Hypnose Humaniste &amp; Ericksonienne
X-ORIGINAL-URL:https://hypnose-ericksonienne.com
X-WR-CALDESC:Events for Institut Français Hypnose Humaniste &amp; Ericksonienne
BEGIN:VEVENT
DTSTART;VALUE=DATE:20200124
DTEND;VALUE=DATE:20200131
DTSTAMP:20260422T171843
CREATED:20190115T111840Z
LAST-MODIFIED:20191223T142828Z
UID:9276785-1579824000-1580428799@hypnose-ericksonienne.com
SUMMARY:TECHNICIEN
DESCRIPTION:
URL:https://hypnose-ericksonienne.com/e/technicien-12/
LOCATION:60 rue Carnot\, Boulogne-Billancourt\, 92100 \, France
CATEGORIES:Technicien
END:VEVENT
END:VCALENDAR