BEGIN:VCALENDAR
VERSION:2.0
PRODID:-//Institut Français Hypnose Humaniste &amp; Ericksonienne - ECPv4.6.2//NONSGML v1.0//EN
CALSCALE:GREGORIAN
METHOD:PUBLISH
X-WR-CALNAME:Institut Français Hypnose Humaniste &amp; Ericksonienne
X-ORIGINAL-URL:https://hypnose-ericksonienne.com
X-WR-CALDESC:Events for Institut Français Hypnose Humaniste &amp; Ericksonienne
BEGIN:VEVENT
DTSTART;VALUE=DATE:20220125
DTEND;VALUE=DATE:20220201
DTSTAMP:20260419T211416
CREATED:20210126T093614Z
LAST-MODIFIED:20211223T083619Z
UID:9278343-1643068800-1643673599@hypnose-ericksonienne.com
SUMMARY:TECHNICIEN
DESCRIPTION:
URL:https://hypnose-ericksonienne.com/e/technicien-22/
LOCATION:60 rue Carnot\, Boulogne-Billancourt\, 92100 \, France
CATEGORIES:Technicien
END:VEVENT
END:VCALENDAR