BEGIN:VCALENDAR
VERSION:2.0
PRODID:-//Institut Français Hypnose Humaniste &amp; Ericksonienne - ECPv4.6.2//NONSGML v1.0//EN
CALSCALE:GREGORIAN
METHOD:PUBLISH
X-WR-CALNAME:Institut Français Hypnose Humaniste &amp; Ericksonienne
X-ORIGINAL-URL:https://hypnose-ericksonienne.com
X-WR-CALDESC:Events for Institut Français Hypnose Humaniste &amp; Ericksonienne
BEGIN:VEVENT
DTSTART;VALUE=DATE:20190401
DTEND;VALUE=DATE:20190408
DTSTAMP:20260422T062517
CREATED:20180323T142224Z
LAST-MODIFIED:20190305T153855Z
UID:9276182-1554076800-1554681599@hypnose-ericksonienne.com
SUMMARY:TECHNICIEN
DESCRIPTION:
URL:https://hypnose-ericksonienne.com/e/technicien-4/
LOCATION:60 rue Carnot\, Boulogne-Billancourt\, 92100 \, France
CATEGORIES:Technicien
END:VEVENT
END:VCALENDAR