BEGIN:VCALENDAR
VERSION:2.0
PRODID:-//Institut Français Hypnose Humaniste &amp; Ericksonienne - ECPv4.6.2//NONSGML v1.0//EN
CALSCALE:GREGORIAN
METHOD:PUBLISH
X-WR-CALNAME:Institut Français Hypnose Humaniste &amp; Ericksonienne
X-ORIGINAL-URL:https://hypnose-ericksonienne.com
X-WR-CALDESC:Events for Institut Français Hypnose Humaniste &amp; Ericksonienne
BEGIN:VEVENT
DTSTART;VALUE=DATE:20190216
DTEND;VALUE=DATE:20190223
DTSTAMP:20260422T165247
CREATED:20180706T145809Z
LAST-MODIFIED:20190107T130728Z
UID:9276483-1550275200-1550879999@hypnose-ericksonienne.com
SUMMARY:TECHNICIEN
DESCRIPTION:
URL:https://hypnose-ericksonienne.com/e/technicien-6/
LOCATION:Adresse à Lyon...\, Lyon\, CP...\, France
CATEGORIES:Technicien
END:VEVENT
END:VCALENDAR