BEGIN:VCALENDAR
VERSION:2.0
PRODID:-//Institut Français Hypnose Humaniste &amp; Ericksonienne - ECPv4.6.2//NONSGML v1.0//EN
CALSCALE:GREGORIAN
METHOD:PUBLISH
X-WR-CALNAME:Institut Français Hypnose Humaniste &amp; Ericksonienne
X-ORIGINAL-URL:https://hypnose-ericksonienne.com
X-WR-CALDESC:Events for Institut Français Hypnose Humaniste &amp; Ericksonienne
BEGIN:VEVENT
DTSTART;TZID=Europe/Paris:20180212T080000
DTEND;TZID=Europe/Paris:20180218T170000
DTSTAMP:20260423T234859
CREATED:20170912T122601Z
LAST-MODIFIED:20180201T092952Z
UID:9237-1518422400-1518973200@hypnose-ericksonienne.com
SUMMARY:TECHNICIEN LYON
DESCRIPTION:
URL:https://hypnose-ericksonienne.com/e/technicien-lyon-2/
LOCATION:Adresse à Lyon...\, Lyon\, CP...\, France
CATEGORIES:Technicien
END:VEVENT
END:VCALENDAR