BEGIN:VCALENDAR
VERSION:2.0
PRODID:-//Institut Français Hypnose Humaniste &amp; Ericksonienne - ECPv4.6.2//NONSGML v1.0//EN
CALSCALE:GREGORIAN
METHOD:PUBLISH
X-WR-CALNAME:Institut Français Hypnose Humaniste &amp; Ericksonienne
X-ORIGINAL-URL:https://hypnose-ericksonienne.com
X-WR-CALDESC:Events for Institut Français Hypnose Humaniste &amp; Ericksonienne
BEGIN:VEVENT
DTSTART;VALUE=DATE:20180707
DTEND;VALUE=DATE:20180714
DTSTAMP:20260423T195754
CREATED:20171110T100113Z
LAST-MODIFIED:20180621T144301Z
UID:9381-1530921600-1531526399@hypnose-ericksonienne.com
SUMMARY:TECHNICIEN - LYON
DESCRIPTION:
URL:https://hypnose-ericksonienne.com/e/technicien-lyon-3/
LOCATION:Adresse à Lyon...\, Lyon\, CP...\, France
CATEGORIES:Technicien
END:VEVENT
END:VCALENDAR