BEGIN:VCALENDAR
VERSION:2.0
PRODID:-//Institut Français Hypnose Humaniste &amp; Ericksonienne - ECPv4.6.2//NONSGML v1.0//EN
CALSCALE:GREGORIAN
METHOD:PUBLISH
X-WR-CALNAME:Institut Français Hypnose Humaniste &amp; Ericksonienne
X-ORIGINAL-URL:https://hypnose-ericksonienne.com
X-WR-CALDESC:Events for Institut Français Hypnose Humaniste &amp; Ericksonienne
BEGIN:VEVENT
DTSTART;TZID=Europe/Paris:20180504T080000
DTEND;TZID=Europe/Paris:20180510T170000
DTSTAMP:20260423T160856
CREATED:20170624T084222Z
LAST-MODIFIED:20180503T073003Z
UID:8821-1525420800-1525971600@hypnose-ericksonienne.com
SUMMARY:TECHNICIEN - PARIS
DESCRIPTION:
URL:https://hypnose-ericksonienne.com/e/technicien-paris-5/
LOCATION:60 rue Carnot\, Boulogne-Billancourt\, 92100 \, France
CATEGORIES:Technicien
END:VEVENT
END:VCALENDAR