BEGIN:VCALENDAR
VERSION:2.0
PRODID:-//Institut Français Hypnose Humaniste &amp; Ericksonienne - ECPv4.6.2//NONSGML v1.0//EN
CALSCALE:GREGORIAN
METHOD:PUBLISH
X-WR-CALNAME:Institut Français Hypnose Humaniste &amp; Ericksonienne
X-ORIGINAL-URL:https://hypnose-ericksonienne.com
X-WR-CALDESC:Events for Institut Français Hypnose Humaniste &amp; Ericksonienne
BEGIN:VEVENT
DTSTART;TZID=Europe/Paris:20180702T080000
DTEND;TZID=Europe/Paris:20180708T170000
DTSTAMP:20260423T195817
CREATED:20170624T084442Z
LAST-MODIFIED:20180629T075106Z
UID:8824-1530518400-1531069200@hypnose-ericksonienne.com
SUMMARY:TECHNICIEN - PARIS
DESCRIPTION:
URL:https://hypnose-ericksonienne.com/e/technicien-paris-6/
LOCATION:60 rue Carnot\, Boulogne-Billancourt\, 92100 \, France
CATEGORIES:Technicien
END:VEVENT
END:VCALENDAR