BEGIN:VCALENDAR
VERSION:2.0
PRODID:-//Institut Français Hypnose Humaniste &amp; Ericksonienne - ECPv4.6.2//NONSGML v1.0//EN
CALSCALE:GREGORIAN
METHOD:PUBLISH
X-WR-CALNAME:Institut Français Hypnose Humaniste &amp; Ericksonienne
X-ORIGINAL-URL:https://hypnose-ericksonienne.com
X-WR-CALDESC:Events for Institut Français Hypnose Humaniste &amp; Ericksonienne
BEGIN:VEVENT
DTSTART;TZID=Europe/Paris:20180205T080000
DTEND;TZID=Europe/Paris:20180211T170000
DTSTAMP:20260423T211154
CREATED:20170912T122438Z
LAST-MODIFIED:20180116T130401Z
UID:9234-1517817600-1518368400@hypnose-ericksonienne.com
SUMMARY:TECHNICIEN TOULOUSE
DESCRIPTION:
URL:https://hypnose-ericksonienne.com/e/technicien/
LOCATION:Adresse Toulouse...\, Toulouse\, CP...\, France
CATEGORIES:Technicien
END:VEVENT
END:VCALENDAR