BEGIN:VCALENDAR
VERSION:2.0
PRODID:-//Institut Français Hypnose Humaniste &amp; Ericksonienne - ECPv4.6.2//NONSGML v1.0//EN
CALSCALE:GREGORIAN
METHOD:PUBLISH
X-WR-CALNAME:Institut Français Hypnose Humaniste &amp; Ericksonienne
X-ORIGINAL-URL:https://hypnose-ericksonienne.com
X-WR-CALDESC:Events for Institut Français Hypnose Humaniste &amp; Ericksonienne
BEGIN:VEVENT
DTSTART;VALUE=DATE:20180423
DTEND;VALUE=DATE:20180428
DTSTAMP:20260423T173311
CREATED:20170909T181258Z
LAST-MODIFIED:20170909T181802Z
UID:9220-1524441600-1524873599@hypnose-ericksonienne.com
SUMMARY:TSA La Réunion
DESCRIPTION:
URL:https://hypnose-ericksonienne.com/e/tsa-la-reunion/
LOCATION:La Réunion\, France
CATEGORIES:Praticien 2 HH
END:VEVENT
END:VCALENDAR