BEGIN:VCALENDAR
VERSION:2.0
PRODID:-//Institut Français Hypnose Humaniste &amp; Ericksonienne - ECPv4.6.2//NONSGML v1.0//EN
CALSCALE:GREGORIAN
METHOD:PUBLISH
X-WR-CALNAME:Institut Français Hypnose Humaniste &amp; Ericksonienne
X-ORIGINAL-URL:https://hypnose-ericksonienne.com
X-WR-CALDESC:Events for Institut Français Hypnose Humaniste &amp; Ericksonienne
BEGIN:VEVENT
DTSTART;VALUE=DATE:20180625
DTEND;VALUE=DATE:20180630
DTSTAMP:20260423T171810
CREATED:20170909T180652Z
LAST-MODIFIED:20170909T180652Z
UID:9210-1529884800-1530316799@hypnose-ericksonienne.com
SUMMARY:TSA Moscou
DESCRIPTION:
URL:https://hypnose-ericksonienne.com/e/tsa-moscou/
LOCATION:Moscow\, Russie\, Fédération de
CATEGORIES:Praticien 2 HH
END:VEVENT
END:VCALENDAR